BEGIN:VCALENDAR
VERSION:2.0
PRODID:-//St. Michael the Archangel - ECPv6.15.20//NONSGML v1.0//EN
CALSCALE:GREGORIAN
METHOD:PUBLISH
X-WR-CALNAME:St. Michael the Archangel
X-ORIGINAL-URL:https://www.stmichaelbridgeport.com
X-WR-CALDESC:Events for St. Michael the Archangel
REFRESH-INTERVAL;VALUE=DURATION:PT1H
X-Robots-Tag:noindex
X-PUBLISHED-TTL:PT1H
BEGIN:VTIMEZONE
TZID:America/Halifax
BEGIN:DAYLIGHT
TZOFFSETFROM:-0400
TZOFFSETTO:-0300
TZNAME:ADT
DTSTART:20240310T060000
END:DAYLIGHT
BEGIN:STANDARD
TZOFFSETFROM:-0300
TZOFFSETTO:-0400
TZNAME:AST
DTSTART:20241103T050000
END:STANDARD
BEGIN:DAYLIGHT
TZOFFSETFROM:-0400
TZOFFSETTO:-0300
TZNAME:ADT
DTSTART:20250309T060000
END:DAYLIGHT
BEGIN:STANDARD
TZOFFSETFROM:-0300
TZOFFSETTO:-0400
TZNAME:AST
DTSTART:20251102T050000
END:STANDARD
BEGIN:DAYLIGHT
TZOFFSETFROM:-0400
TZOFFSETTO:-0300
TZNAME:ADT
DTSTART:20260308T060000
END:DAYLIGHT
BEGIN:STANDARD
TZOFFSETFROM:-0300
TZOFFSETTO:-0400
TZNAME:AST
DTSTART:20261101T050000
END:STANDARD
END:VTIMEZONE
BEGIN:VEVENT
DTSTART;TZID=America/Halifax:20251125T200000
DTEND;TZID=America/Halifax:20251125T210000
DTSTAMP:20260423T131033
CREATED:20250806T190638Z
LAST-MODIFIED:20250806T194423Z
UID:236184-1764100800-1764104400@www.stmichaelbridgeport.com
SUMMARY:Sandwiches for the Poor - Kanapki dla ubogich
DESCRIPTION:Sandwiches for the Poor – Kanapki dla ubogich\nPlease help us\nTuesday\, November 26th\nWe will be preparing the sandwiches for the poor after 7:00pm Mass. \nProsimy o pomoc\nWtorek\, 26-go listopada przygotowujemy kanapki dla\nubogich po Mszy Sw. o 7:00 pm
URL:https://www.stmichaelbridgeport.com/event/sandwiches-for-the-poor-kanapki-dla-ubogich-5/
LOCATION:Parafia Św. Michała Archanioła
CATEGORIES:Kanapki dla ubogich
ATTACH;FMTTYPE=image/jpeg:https://www.stmichaelbridgeport.com/wp-content/uploads/2024/09/IMG_6314.jpeg
END:VEVENT
BEGIN:VEVENT
DTSTART;TZID=America/Halifax:20251113T180000
DTEND;TZID=America/Halifax:20251113T210000
DTSTAMP:20260423T131033
CREATED:20250806T190820Z
LAST-MODIFIED:20250806T194005Z
UID:236190-1763056800-1763067600@www.stmichaelbridgeport.com
SUMMARY:Nabożeństwo Fatimskie
DESCRIPTION:KAZDEGO 13 DNIA MIESIĄCA\n6:00 PM Adoracja Eucharystyczna i Spowiedź\n6:30 PM Różaniec Fatimski\n7:00 PM Msza Maryina\n8:00 PM Konferencja \nProcesja Fatimska ze świecami\nApel Jasnogórski\nBlogoslawienstwo relikwiami \nZapraszamy
URL:https://www.stmichaelbridgeport.com/event/nabozenstwo-fatimskie-5/
LOCATION:Parafia Św. Michała Archanioła
CATEGORIES:NABOZENSTWO FATIMSKIE
ATTACH;FMTTYPE=image/jpeg:https://www.stmichaelbridgeport.com/wp-content/uploads/2024/09/Nabozenstwo-Fatimskie-3-e1726943525232.jpg
END:VEVENT
BEGIN:VEVENT
DTSTART;TZID=America/Halifax:20251108T120000
DTEND;TZID=America/Halifax:20251108T140000
DTSTAMP:20260423T131033
CREATED:20251015T144729Z
LAST-MODIFIED:20251124T205721Z
UID:237556-1762603200-1762610400@www.stmichaelbridgeport.com
SUMMARY:Uroczystość wciągnięcia flagi
DESCRIPTION:Zapraszamy na uroczystość wciągnięcia flagi pod\nratuszem w mieście Bridgeport z okazji\nOdzyskania Niepodległości przez Polskę. \nUroczystość odbędzie się 8 listopada 2025 o godzinie 12:00. \nPodczas tej uroczystości zostanie uhonorowana\ndziałaczka harcerska  ALFREDA MOZDZER
URL:https://www.stmichaelbridgeport.com/event/uroczystosc-wciagniecia-flagi/
ATTACH;FMTTYPE=image/png:https://www.stmichaelbridgeport.com/wp-content/uploads/2025/10/utf-8WciAgniAcie-flagi_2.png
END:VEVENT
BEGIN:VEVENT
DTSTART;TZID=America/Halifax:20251031T183000
DTEND;TZID=America/Halifax:20251031T203000
DTSTAMP:20260423T131033
CREATED:20251016T125346Z
LAST-MODIFIED:20251101T230923Z
UID:237573-1761935400-1761942600@www.stmichaelbridgeport.com
SUMMARY:Bal Wszystkich Świętych
DESCRIPTION:Zapraszamy na Bal Wszystkich Świętych  \n31 października 2025 o godz. 6.30pm.  \nRozpoczynamy Mszą Świętą\, a następnie\nzapraszamy wszystkich na słodki poczęstunek\ni na zabawę do sali pod kościołem.  \nDzieci mogą uczcić swojego ulubionego\npatrona i przebrać się z Niego\, aby się\nupodobnić do Niego (nie tylko zewnętrznie).
URL:https://www.stmichaelbridgeport.com/event/bal-wszystkich-swietych/
LOCATION:Parafia Św. Michała Archanioła
ATTACH;FMTTYPE=image/png:https://www.stmichaelbridgeport.com/wp-content/uploads/2025/10/utf-8Bal-wszystkich-AwiAtych.png
END:VEVENT
BEGIN:VEVENT
DTSTART;TZID=America/Halifax:20251028T200000
DTEND;TZID=America/Halifax:20251028T210000
DTSTAMP:20260423T131033
CREATED:20250806T190554Z
LAST-MODIFIED:20250806T194434Z
UID:236182-1761681600-1761685200@www.stmichaelbridgeport.com
SUMMARY:Sandwiches for the Poor - Kanapki dla ubogich
DESCRIPTION:Sandwiches for the Poor – Kanapki dla ubogich\nPlease help us\nTuesday\, November 26th\nWe will be preparing the sandwiches for the poor after 7:00pm Mass. \nProsimy o pomoc\nWtorek\, 26-go listopada przygotowujemy kanapki dla\nubogich po Mszy Sw. o 7:00 pm
URL:https://www.stmichaelbridgeport.com/event/sandwiches-for-the-poor-kanapki-dla-ubogich-4/
LOCATION:Parafia Św. Michała Archanioła
CATEGORIES:Kanapki dla ubogich
ATTACH;FMTTYPE=image/jpeg:https://www.stmichaelbridgeport.com/wp-content/uploads/2024/09/IMG_6314.jpeg
END:VEVENT
BEGIN:VEVENT
DTSTART;TZID=America/Halifax:20251013T180000
DTEND;TZID=America/Halifax:20251013T210000
DTSTAMP:20260423T131033
CREATED:20250806T190804Z
LAST-MODIFIED:20250806T193939Z
UID:236188-1760378400-1760389200@www.stmichaelbridgeport.com
SUMMARY:Nabożeństwo Fatimskie
DESCRIPTION:KAZDEGO 13 DNIA MIESIĄCA\n6:00 PM Adoracja Eucharystyczna i Spowiedź\n6:30 PM Różaniec Fatimski\n7:00 PM Msza Maryina\n8:00 PM Konferencja \nProcesja Fatimska ze świecami\nApel Jasnogórski\nBlogoslawienstwo relikwiami \nZapraszamy
URL:https://www.stmichaelbridgeport.com/event/nabozenstwo-fatimskie-4/
LOCATION:Parafia Św. Michała Archanioła
CATEGORIES:NABOZENSTWO FATIMSKIE
ATTACH;FMTTYPE=image/jpeg:https://www.stmichaelbridgeport.com/wp-content/uploads/2024/09/Nabozenstwo-Fatimskie-3-e1726943525232.jpg
END:VEVENT
BEGIN:VEVENT
DTSTART;TZID=America/Halifax:20251012T113000
DTEND;TZID=America/Halifax:20251012T153000
DTSTAMP:20260423T131033
CREATED:20251006T160304Z
LAST-MODIFIED:20251015T144821Z
UID:237401-1760268600-1760283000@www.stmichaelbridgeport.com
SUMMARY:AKADEMIA
DESCRIPTION:SZKOŁA KULTURY I JĘZYKA POLSKIEGO\nim. św. Jana Pawła Il zaprasza na  \nAKADEMIĘ Z OKAZJI\nDNIA PATRONA SZKOŁY\nW WYKONANIU UCZNIÓW SZKOŁY \n12 PAZDZIERNIKA 2025 \nMSZA ŚW. O 11:30\nI AKADEMIA A PO MSZY ŚW. \nSPRZEDAZ KREMÓWEK\nPO KAŻDEJ MSZY ŚW.
URL:https://www.stmichaelbridgeport.com/event/akademia/
LOCATION:Parafia Św. Michała Archanioła
ATTACH;FMTTYPE=image/jpeg:https://www.stmichaelbridgeport.com/wp-content/uploads/2025/10/4cf3ac8c-8c0b-4754-8ae3-68f7292f61df.jpg
END:VEVENT
BEGIN:VEVENT
DTSTART;TZID=America/Halifax:20251005T080000
DTEND;TZID=America/Halifax:20251005T170000
DTSTAMP:20260423T131033
CREATED:20251002T220127Z
LAST-MODIFIED:20251006T160357Z
UID:237366-1759651200-1759683600@www.stmichaelbridgeport.com
SUMMARY:Parada Pułaskiego
DESCRIPTION:Serdecznie zapraszamy wszystkich uczestników Parady Pułaskiego\,\nktóra odbędzie się w niedzielę\, 5 października 2025 roku.\n\n\nMsza Święta\n 8:30 rano – w naszym kościele\n\n\nPo Mszy: śniadanie w sali pod kościołem\,\nnastępnie wyjazd dwoma autokarami do Nowego Jorku na paradę.\n\n\nSą jeszcze wolne miejsca!\nDołącz do nas i weź udział w tym wyjątkowym wydarzeniu!
URL:https://www.stmichaelbridgeport.com/event/parada-pulaskiego/
ATTACH;FMTTYPE=image/jpeg:https://www.stmichaelbridgeport.com/wp-content/uploads/2025/10/557494408_773210155614558_5068559479624005435_n.jpg
END:VEVENT
BEGIN:VEVENT
DTSTART;TZID=America/Halifax:20250928T123000
DTEND;TZID=America/Halifax:20250928T170000
DTSTAMP:20260423T131033
CREATED:20250917T195747Z
LAST-MODIFIED:20251002T220208Z
UID:237073-1759062600-1759078800@www.stmichaelbridgeport.com
SUMMARY:ODPUST PARAFIALNY
DESCRIPTION:SUNDAY\, SEPTEMBER 28TH \nMsza Swieta Odpustowa 11:30 AM \nATTRACTIONS\nPicnic hosted by DJ Daniel Z\nBounce House and Foam Party\nPerformances by Children from Polish School\nPerformance by the “Stowianie” Ensemble\nPerformance by the “Polanie” Ensemble\nPerformances by Students from the Volta Dance School\nPresentation of Local Polish Businesses\nRaffle with Attractive Prizes \nMENU\nPierogi\, Stuffed Cabbage (Golabki)\, Pork Knuckles\,\nHot Dogs\, Cabbage with Sausage\, Potato Pancakes\,\nLiver with Onions and Bacon\, Open-Faced Baguette\nPizzas (Zapiekanki)\, Coffee and Cake\, Cotton Candy\nand Popcorn\, Refreshments and Cold Drinks\nPLEASE JOIN US! \n 
URL:https://www.stmichaelbridgeport.com/event/odpust-parafialny/
LOCATION:Parafia Św. Michała Archanioła
ATTACH;FMTTYPE=image/jpeg:https://www.stmichaelbridgeport.com/wp-content/uploads/2025/09/Odpust-Parafilany-2025_1-2.jpg
END:VEVENT
BEGIN:VEVENT
DTSTART;TZID=America/Halifax:20250923T200000
DTEND;TZID=America/Halifax:20250923T210000
DTSTAMP:20260423T131033
CREATED:20250806T190547Z
LAST-MODIFIED:20250806T194445Z
UID:236180-1758657600-1758661200@www.stmichaelbridgeport.com
SUMMARY:Sandwiches for the Poor - Kanapki dla ubogich
DESCRIPTION:Sandwiches for the Poor – Kanapki dla ubogich\nPlease help us\nTuesday\, November 26th\nWe will be preparing the sandwiches for the poor after 7:00pm Mass. \nProsimy o pomoc\nWtorek\, 26-go listopada przygotowujemy kanapki dla\nubogich po Mszy Sw. o 7:00 pm
URL:https://www.stmichaelbridgeport.com/event/sandwiches-for-the-poor-kanapki-dla-ubogich-3/
LOCATION:Parafia Św. Michała Archanioła
CATEGORIES:Kanapki dla ubogich
ATTACH;FMTTYPE=image/jpeg:https://www.stmichaelbridgeport.com/wp-content/uploads/2024/09/IMG_6314.jpeg
END:VEVENT
BEGIN:VEVENT
DTSTART;TZID=America/Halifax:20250917T190000
DTEND;TZID=America/Halifax:20250917T210000
DTSTAMP:20260423T131033
CREATED:20250803T230029Z
LAST-MODIFIED:20250917T195927Z
UID:235761-1758135600-1758142800@www.stmichaelbridgeport.com
SUMMARY:Grzechy Języka
DESCRIPTION:Jesienne Katechezy w Szkole Maryi: \nGrzechy Języka\nKatecheza I\nMoc Słów Błogosławieństwo czy Przekleństwo? \nŚroda\, 17 Września po Mszy św. wieczornej \nProwadzi: o. Norbert Siwiński \n 
URL:https://www.stmichaelbridgeport.com/event/grzechy-jezyka/
LOCATION:Parafia Św. Michała Archanioła
ATTACH;FMTTYPE=image/jpeg:https://www.stmichaelbridgeport.com/wp-content/uploads/2025/07/Grzechy-Jezyka_09_2025.jpg
END:VEVENT
BEGIN:VEVENT
DTSTART;TZID=America/Halifax:20250913T180000
DTEND;TZID=America/Halifax:20250913T210000
DTSTAMP:20260423T131033
CREATED:20250806T190749Z
LAST-MODIFIED:20250806T193923Z
UID:236186-1757786400-1757797200@www.stmichaelbridgeport.com
SUMMARY:Nabożeństwo Fatimskie
DESCRIPTION:KAZDEGO 13 DNIA MIESIĄCA\n6:00 PM Adoracja Eucharystyczna i Spowiedź\n6:30 PM Różaniec Fatimski\n7:00 PM Msza Maryina\n8:00 PM Konferencja \nProcesja Fatimska ze świecami\nApel Jasnogórski\nBlogoslawienstwo relikwiami \nZapraszamy
URL:https://www.stmichaelbridgeport.com/event/nabozenstwo-fatimskie-2/
LOCATION:Parafia Św. Michała Archanioła
CATEGORIES:NABOZENSTWO FATIMSKIE
ATTACH;FMTTYPE=image/jpeg:https://www.stmichaelbridgeport.com/wp-content/uploads/2024/09/Nabozenstwo-Fatimskie-3-e1726943525232.jpg
END:VEVENT
BEGIN:VEVENT
DTSTART;TZID=America/Halifax:20250826T200000
DTEND;TZID=America/Halifax:20250826T210000
DTSTAMP:20260423T131033
CREATED:20250806T190540Z
LAST-MODIFIED:20250806T194500Z
UID:236178-1756238400-1756242000@www.stmichaelbridgeport.com
SUMMARY:Sandwiches for the Poor - Kanapki dla ubogich
DESCRIPTION:Sandwiches for the Poor – Kanapki dla ubogich\nPlease help us\nTuesday\, November 26th\nWe will be preparing the sandwiches for the poor after 7:00pm Mass. \nProsimy o pomoc\nWtorek\, 26-go listopada przygotowujemy kanapki dla\nubogich po Mszy Sw. o 7:00 pm
URL:https://www.stmichaelbridgeport.com/event/sandwiches-for-the-poor-kanapki-dla-ubogich-2/
LOCATION:Parafia Św. Michała Archanioła
CATEGORIES:Kanapki dla ubogich
ATTACH;FMTTYPE=image/jpeg:https://www.stmichaelbridgeport.com/wp-content/uploads/2024/09/IMG_6314.jpeg
END:VEVENT
END:VCALENDAR